Workbook
Name _: #REF!

Sheet 갑지
A1: 설 계 서 용 지 (갑 지)
A2: 과 장 | C2: 담 당 | E2: 심사자 | G2: 설계자 | I2: 2026 년 06 월 일 설계
B4: 2 0 2 6 년 도
C9: 공 사 개 요 | F9: 동북권ICT이노베이션스퀘어 통신공사
C11: ="총 공 사 비 "&"일금"&NUMBERSTRING(D30,1)&"원정"&"(￦"&FIXED(D30,0)&")" -> 총 공 사 비 일금영원정(￦0)
C13: ="도급 공사비 -1식- "&FIXED(D23,0)&"원" -> 도급 공사비 -1식- 0원
C20: =" 계 "&FIXED(D30,0)&"원" -> 계 0원
D30: =SUM(D23:D29) -> 0

Sheet 원가계산
A1: 공 사 원 가 계 산 서
A2: 공사명 : 동북권ICT이노베이션스퀘어 통신공사
A3: 구 분 | D3: 금 액 | F3: 구 성 비 | H3: 비 고
B4: 재 | C4: 직접재료비
B5: 료 | C5: 작업부산물
A6: 순 | B6: 비 | C6: 소계
B7: 노 | C7: 직접노무비
B8: 무 | C8: 간접노무비 | F8: (직접노무비) x | G8: 0.175
A9: 공 | B9: 비 | C9: 소계
C10: 산출경비
C11: 환경보전비 | F11: (재료비 + 직노 + 산경) x
A12: 사 | B12: 경 | C12: 건설기계대여금지급보증서발급수수료 | F12: (재료비 + 직노 + 산경) x
C13: 산재보험료 | F13: (노무비) x | G13: 0.0356
C14: 고용보험료 | F14: (노무비) x | G14: 0.0101
A15: 원 | C15: 퇴직공제부금비 | F15: (직접노무비) x
C16: 산업안전보건관리비 | D16: 747683 | F16: (재료비 + 직노) x | G16: 0.0311
C17: 기타경비 | F17: (재료비 + 노무비) x | G17: 0.05
A18: 가 | C18: 건강보험료 | F18: (직접노무비) x | G18: 0.03595
B19: 비 | C19: 연금보험료 | F19: (직접노무비) x | G19: 0.0475
C20: 노인장기요양보험료 | F20: (건강보험료) x | G20: 0.1314
C21: 석면분담금 | F21: (노무비) x | G21: 6e-05
C22: 임금 채권 분담금 | F22: (노무비) x | G22: 0.0009
C23: 소계
C24: 합계 | F24: (재료비 + 노무비 + 경비)
A25: 일반관리비 | F25: (재료비 + 노무비 + 경비) x | G25: 0.08
A26: 이 윤 | F26: (노무비 + 경비 + 일반관리비) x | G26: 0.15
A27: 총 원 가
A28: 부가가치세 | F28: (총원가) x | G28: 0.1
A29: 도급공사비
A31: 총공사원가 | D31: =INT(SUM(D29:D30)) -> 0

Sheet 집계표
A1: 집 계 표
A2: 공사명 : 동북권ICT이노베이션스퀘어 통신공사
A3: 품 명 | B3: 규 격 | C3: 단위 | D3: 수 량 | E3: 재 료 비 | G3: 노 무 비 | I3: 경 비 | K3: 합 계 | M3: 비고
E4: 단 가 | F4: 금 액 | G4: 단 가 | H4: 금 액 | I4: 단 가 | J4: 금 액 | K4: 단 가 | L4: 금 액 | O4: GjNo
A5: 1. 동북권ICT이노베이션스퀘어(ICT콤플렉스) 실시설계 용역(통신) | C5: 식 | D5: 1 | O5: 01 | Q5: 1 | R5: 0 | S5: 0 | T5: 0 | U5: 0 | V5: 0 | W5: 0 | X5: 0 | Y5: 0 | Z5: 0 | AA5: 0 | AB5: 0 | AC5: 0 | AD5: 0 | AE5: 0 | AF5: 0 | AG5: 0 | AH5: 0 | AI5: 0 | AJ5: 0 | AK5: 0 | AL5: 0 | AM5: 0 | AN5: 0 | AO5: 0 | AP5: 0 | AQ5: 0 | AR5: 0 | AS5: 0 | AT5: 0 | AU5: 0 | AV5: 0
A6: 1-1. 통신설비공사 | C6: 식 | D6: 1 | N6: 01 | O6: 0101 | Q6: 1 | R6: 0 | S6: 0 | T6: 0 | U6: 0 | V6: 0 | W6: 0 | X6: 0 | Y6: 0 | Z6: 0 | AA6: 0 | AB6: 0 | AC6: 0 | AD6: 0 | AE6: 0 | AF6: 0 | AG6: 0 | AH6: 0 | AI6: 0 | AJ6: 0 | AK6: 0 | AL6: 0 | AM6: 0 | AN6: 0 | AO6: 0 | AP6: 0 | AQ6: 0 | AR6: 0 | AS6: 0 | AT6: 0 | AU6: 0 | AV6: 0
A7: 1-1-1. 전화(LAN)설비공사 | C7: 식 | D7: 1 | N7: 0101 | O7: 010101 | Q7: 1 | R7: =D7*내역서!R28 -> 0 | S7: =D7*내역서!S28 -> 0 | T7: =D7*내역서!T28 -> 0 | U7: =D7*내역서!U28 -> 0 | V7: =D7*내역서!V28 -> 0 | W7: =D7*내역서!W28 -> 0 | X7: =D7*내역서!X28 -> 0 | Y7: =D7*내역서!Y28 -> 0 | Z7: =D7*내역서!Z28 -> 0 | AA7: =D7*내역서!AA28 -> 0 | AB7: =D7*내역서!AB28 -> 0 | AC7: =D7*내역서!AC28 -> 0 | AD7: =D7*내역서!AD28 -> 0 | AE7: =D7*내역서!AE28 -> 0 | AF7: =D7*내역서!AF28 -> 0 | AG7: =D7*내역서!AG28 -> 0 | AH7: =D7*내역서!AH28 -> 0 | AI7: =D7*내역서!AI28 -> 0 | AJ7: =D7*내역서!AJ28 -> 0 | AK7: =D7*내역서!AK28 -> 0 | AL7: =D7*내역서!AL28 -> 0 | AM7: =D7*내역서!AM28 -> 0 | AN7: =D7*내역서!AN28 -> 0 | AO7: =D7*내역서!AO28 -> 0 | AP7: =D7*내역서!AP28 -> 0 | AQ7: =D7*내역서!AQ28 -> 0 | AR7: =D7*내역서!AR28 -> 0 | AS7: =D7*내역서!AS28 -> 0 | AT7: =D7*내역서!AT28 -> 0 | AU7: =D7*내역서!AU28 -> 0 | AV7: =D7*내역서!AV28 -> 0
A8: 1-1-2. TV설비공사 | C8: 식 | D8: 1 | N8: 0101 | O8: 010102 | Q8: 1 | R8: =D8*내역서!R52 -> 0 | S8: =D8*내역서!S52 -> 0 | T8: =D8*내역서!T52 -> 0 | U8: =D8*내역서!U52 -> 0 | V8: =D8*내역서!V52 -> 0 | W8: =D8*내역서!W52 -> 0 | X8: =D8*내역서!X52 -> 0 | Y8: =D8*내역서!Y52 -> 0 | Z8: =D8*내역서!Z52 -> 0 | AA8: =D8*내역서!AA52 -> 0 | AB8: =D8*내역서!AB52 -> 0 | AC8: =D8*내역서!AC52 -> 0 | AD8: =D8*내역서!AD52 -> 0 | AE8: =D8*내역서!AE52 -> 0 | AF8: =D8*내역서!AF52 -> 0 | AG8: =D8*내역서!AG52 -> 0 | AH8: =D8*내역서!AH52 -> 0 | AI8: =D8*내역서!AI52 -> 0 | AJ8: =D8*내역서!AJ52 -> 0 | AK8: =D8*내역서!AK52 -> 0 | AL8: =D8*내역서!AL52 -> 0 | AM8: =D8*내역서!AM52 -> 0 | AN8: =D8*내역서!AN52 -> 0 | AO8: =D8*내역서!AO52 -> 0 | AP8: =D8*내역서!AP52 -> 0 | AQ8: =D8*내역서!AQ52 -> 0 | AR8: =D8*내역서!AR52 -> 0 | AS8: =D8*내역서!AS52 -> 0 | AT8: =D8*내역서!AT52 -> 0 | AU8: =D8*내역서!AU52 -> 0 | AV8: =D8*내역서!AV52 -> 0

Sheet 내역서
A1: 내 역 서
A2: 공사명 : 동북권ICT이노베이션스퀘어 통신공사
A3: 품 명 | B3: 규 격 | C3: 단위 | D3: 수 량 | E3: 재 료 비 | G3: 노 무 비 | I3: 경 비 | K3: 합 계 | M3: 비고
E4: 단 가 | F4: 금 액 | G4: 단 가 | H4: 금 액 | I4: 단 가 | J4: 금 액 | K4: 단 가 | L4: 금 액 | N4: 손료요율 | O4: 손료구분 | P4: 적용구분 | Q4: 합계구분 | R4: 기계경비 | S4: 운반비 | T4: 작업부산물 | U4: 관급 | V4: 외주비 | W4: 장비비 | X4: 폐기물처리비 | Y4: 가설비 | Z4: 잡비제외분 | AA4: 사급자재대 | AB4: 관급자재대 | AC4: 사용자항목1 | AD4: 사용자항목2 | AE4: 안전관리비 | AF4: 품질관리비 | AG4: 작업부산물(철거해체) | AH4: 사용자항목6 | AI4: 사용자항목7 | AJ4: 사용자항목8 | AK4: 사용자항목9 | AL4: 사용자항목10 | AM4: 사용자항목11 | AN4: 사용자항목12 | AO4: 사용자항목13 | AP4: 사용자항목14 | AQ4: 사용자항목15 | AR4: 사용자항목16 | AS4: 사용자항목17 | AT4: 사용자항목18 | AU4: 사용자항목19 | AV4: 간접재료비 | AW4: 품목구분 | AX4: 조달코드 | AY4: 구분
A5: 1-1. 전화(LAN)설비공사
A6: 1종금속제가요전선관 | B6: 고장력후렉시블전선관, 22mm, 비방수 | C6: m | D6: 12.1 | O6: ="04" -> 04 | P6: 기계경비 | Q6: 1 | R6: =IF(P6="기계경비", J6, 0) -> 0 | S6: =IF(P6="운반비", L6, 0) -> 0 | T6: =IF(P6="작업부산물", F6, 0) -> 0 | U6: =IF(P6="관급", F6, 0) -> 0 | V6: =IF(P6="외주비", J6, 0) -> 0 | W6: =IF(P6="장비비", J6, 0) -> 0 | X6: =IF(P6="폐기물처리비", L6, 0) -> 0 | Y6: =IF(P6="가설비", J6, 0) -> 0 | Z6: =IF(P6="잡비제외분", F6, 0) -> 0 | AA6: =IF(P6="사급자재대", L6, 0) -> 0 | AB6: =IF(P6="관급자재대", L6, 0) -> 0 | AC6: =IF(P6="사용자항목1", L6, 0) -> 0 | AD6: =IF(P6="사용자항목2", L6, 0) -> 0 | AE6: =IF(P6="안전관리비", L6, 0) -> 0 | AF6: =IF(P6="품질관리비", L6, 0) -> 0 | AG6: =IF(P6="작업부산물(철거해체)", L6, 0) -> 0 | AH6: =IF(P6="사용자항목6", L6, 0) -> 0 | AI6: =IF(P6="사용자항목7", L6, 0) -> 0 | AJ6: =IF(P6="사용자항목8", L6, 0) -> 0 | AK6: =IF(P6="사용자항목9", L6, 0) -> 0 | AL6: =IF(P6="사용자항목10", L6, 0) -> 0 | AM6: =IF(P6="사용자항목11", L6, 0) -> 0 | AN6: =IF(P6="사용자항목12", L6, 0) -> 0 | AO6: =IF(P6="사용자항목13", L6, 0) -> 0 | AP6: =IF(P6="사용자항목14", L6, 0) -> 0 | AQ6: =IF(P6="사용자항목15", L6, 0) -> 0 | AR6: =IF(P6="사용자항목16", L6, 0) -> 0 | AS6: =IF(P6="사용자항목17", L6, 0) -> 0 | AT6: =IF(P6="사용자항목18", L6, 0) -> 0 | AU6: =IF(P6="사용자항목19", L6, 0) -> 0
A7: 1종금속제가요전선관 | B7: 고장력후렉시블전선관, 16mm, 비방수 | C7: m | D7: 150.2 | O7: ="04" -> 04 | P7: 기계경비 | Q7: 1 | R7: =IF(P7="기계경비", J7, 0) -> 0 | S7: =IF(P7="운반비", L7, 0) -> 0 | T7: =IF(P7="작업부산물", F7, 0) -> 0 | U7: =IF(P7="관급", F7, 0) -> 0 | V7: =IF(P7="외주비", J7, 0) -> 0 | W7: =IF(P7="장비비", J7, 0) -> 0 | X7: =IF(P7="폐기물처리비", L7, 0) -> 0 | Y7: =IF(P7="가설비", J7, 0) -> 0 | Z7: =IF(P7="잡비제외분", F7, 0) -> 0 | AA7: =IF(P7="사급자재대", L7, 0) -> 0 | AB7: =IF(P7="관급자재대", L7, 0) -> 0 | AC7: =IF(P7="사용자항목1", L7, 0) -> 0 | AD7: =IF(P7="사용자항목2", L7, 0) -> 0 | AE7: =IF(P7="안전관리비", L7, 0) -> 0 | AF7: =IF(P7="품질관리비", L7, 0) -> 0 | AG7: =IF(P7="작업부산물(철거해체)", L7, 0) -> 0 | AH7: =IF(P7="사용자항목6", L7, 0) -> 0 | AI7: =IF(P7="사용자항목7", L7, 0) -> 0 | AJ7: =IF(P7="사용자항목8", L7, 0) -> 0 | AK7: =IF(P7="사용자항목9", L7, 0) -> 0 | AL7: =IF(P7="사용자항목10", L7, 0) -> 0 | AM7: =IF(P7="사용자항목11", L7, 0) -> 0 | AN7: =IF(P7="사용자항목12", L7, 0) -> 0 | AO7: =IF(P7="사용자항목13", L7, 0) -> 0 | AP7: =IF(P7="사용자항목14", L7, 0) -> 0 | AQ7: =IF(P7="사용자항목15", L7, 0) -> 0 | AR7: =IF(P7="사용자항목16", L7, 0) -> 0 | AS7: =IF(P7="사용자항목17", L7, 0) -> 0 | AT7: =IF(P7="사용자항목18", L7, 0) -> 0 | AU7: =IF(P7="사용자항목19", L7, 0) -> 0
A8: 전선관 부속품비 | B8: ="전선관의 " & N8*100 & "%" -> 전선관의 15% | C8: 식 | D8: 1 | N8: 0.15 | O8: ="" | P8: 기계경비 | Q8: 1 | R8: =IF(P8="기계경비", J8, 0) -> 0 | S8: =IF(P8="운반비", L8, 0) -> 0 | T8: =IF(P8="작업부산물", F8, 0) -> 0 | U8: =IF(P8="관급", F8, 0) -> 0 | V8: =IF(P8="외주비", J8, 0) -> 0 | W8: =IF(P8="장비비", J8, 0) -> 0 | X8: =IF(P8="폐기물처리비", L8, 0) -> 0 | Y8: =IF(P8="가설비", J8, 0) -> 0 | Z8: =IF(P8="잡비제외분", F8, 0) -> 0 | AA8: =IF(P8="사급자재대", L8, 0) -> 0 | AB8: =IF(P8="관급자재대", L8, 0) -> 0 | AC8: =IF(P8="사용자항목1", L8, 0) -> 0 | AD8: =IF(P8="사용자항목2", L8, 0) -> 0 | AE8: =IF(P8="안전관리비", L8, 0) -> 0 | AF8: =IF(P8="품질관리비", L8, 0) -> 0 | AG8: =IF(P8="작업부산물(철거해체)", L8, 0) -> 0 | AH8: =IF(P8="사용자항목6", L8, 0) -> 0 | AI8: =IF(P8="사용자항목7", L8, 0) -> 0 | AJ8: =IF(P8="사용자항목8", L8, 0) -> 0 | AK8: =IF(P8="사용자항목9", L8, 0) -> 0 | AL8: =IF(P8="사용자항목10", L8, 0) -> 0 | AM8: =IF(P8="사용자항목11", L8, 0) -> 0 | AN8: =IF(P8="사용자항목12", L8, 0) -> 0 | AO8: =IF(P8="사용자항목13", L8, 0) -> 0 | AP8: =IF(P8="사용자항목14", L8, 0) -> 0 | AQ8: =IF(P8="사용자항목15", L8, 0) -> 0 | AR8: =IF(P8="사용자항목16", L8, 0) -> 0 | AS8: =IF(P8="사용자항목17", L8, 0) -> 0 | AT8: =IF(P8="사용자항목18", L8, 0) -> 0 | AU8: =IF(P8="사용자항목19", L8, 0) -> 0 | AW8: 20 | AX8: A0400000000 | AY8: cd관제외
A9: 1종금속제가요전선관 | B9: 박스커넥터, 22mm, 비방수 | C9: 개 | D9: 4 | O9: ="01" -> 01 | P9: 기계경비 | Q9: 1 | R9: =IF(P9="기계경비", J9, 0) -> 0 | S9: =IF(P9="운반비", L9, 0) -> 0 | T9: =IF(P9="작업부산물", F9, 0) -> 0 | U9: =IF(P9="관급", F9, 0) -> 0 | V9: =IF(P9="외주비", J9, 0) -> 0 | W9: =IF(P9="장비비", J9, 0) -> 0 | X9: =IF(P9="폐기물처리비", L9, 0) -> 0 | Y9: =IF(P9="가설비", J9, 0) -> 0 | Z9: =IF(P9="잡비제외분", F9, 0) -> 0 | AA9: =IF(P9="사급자재대", L9, 0) -> 0 | AB9: =IF(P9="관급자재대", L9, 0) -> 0 | AC9: =IF(P9="사용자항목1", L9, 0) -> 0 | AD9: =IF(P9="사용자항목2", L9, 0) -> 0 | AE9: =IF(P9="안전관리비", L9, 0) -> 0 | AF9: =IF(P9="품질관리비", L9, 0) -> 0 | AG9: =IF(P9="작업부산물(철거해체)", L9, 0) -> 0 | AH9: =IF(P9="사용자항목6", L9, 0) -> 0 | AI9: =IF(P9="사용자항목7", L9, 0) -> 0 | AJ9: =IF(P9="사용자항목8", L9, 0) -> 0 | AK9: =IF(P9="사용자항목9", L9, 0) -> 0 | AL9: =IF(P9="사용자항목10", L9, 0) -> 0 | AM9: =IF(P9="사용자항목11", L9, 0) -> 0 | AN9: =IF(P9="사용자항목12", L9, 0) -> 0 | AO9: =IF(P9="사용자항목13", L9, 0) -> 0 | AP9: =IF(P9="사용자항목14", L9, 0) -> 0 | AQ9: =IF(P9="사용자항목15", L9, 0) -> 0 | AR9: =IF(P9="사용자항목16", L9, 0) -> 0 | AS9: =IF(P9="사용자항목17", L9, 0) -> 0 | AT9: =IF(P9="사용자항목18", L9, 0) -> 0 | AU9: =IF(P9="사용자항목19", L9, 0) -> 0
A10: 1종금속제가요전선관 | B10: 박스커넥터, 16mm, 비방수 | C10: 개 | D10: 76 | O10: ="01" -> 01 | P10: 기계경비 | Q10: 1 | R10: =IF(P10="기계경비", J10, 0) -> 0 | S10: =IF(P10="운반비", L10, 0) -> 0 | T10: =IF(P10="작업부산물", F10, 0) -> 0 | U10: =IF(P10="관급", F10, 0) -> 0 | V10: =IF(P10="외주비", J10, 0) -> 0 | W10: =IF(P10="장비비", J10, 0) -> 0 | X10: =IF(P10="폐기물처리비", L10, 0) -> 0 | Y10: =IF(P10="가설비", J10, 0) -> 0 | Z10: =IF(P10="잡비제외분", F10, 0) -> 0 | AA10: =IF(P10="사급자재대", L10, 0) -> 0 | AB10: =IF(P10="관급자재대", L10, 0) -> 0 | AC10: =IF(P10="사용자항목1", L10, 0) -> 0 | AD10: =IF(P10="사용자항목2", L10, 0) -> 0 | AE10: =IF(P10="안전관리비", L10, 0) -> 0 | AF10: =IF(P10="품질관리비", L10, 0) -> 0 | AG10: =IF(P10="작업부산물(철거해체)", L10, 0) -> 0 | AH10: =IF(P10="사용자항목6", L10, 0) -> 0 | AI10: =IF(P10="사용자항목7", L10, 0) -> 0 | AJ10: =IF(P10="사용자항목8", L10, 0) -> 0 | AK10: =IF(P10="사용자항목9", L10, 0) -> 0 | AL10: =IF(P10="사용자항목10", L10, 0) -> 0 | AM10: =IF(P10="사용자항목11", L10, 0) -> 0 | AN10: =IF(P10="사용자항목12", L10, 0) -> 0 | AO10: =IF(P10="사용자항목13", L10, 0) -> 0 | AP10: =IF(P10="사용자항목14", L10, 0) -> 0 | AQ10: =IF(P10="사용자항목15", L10, 0) -> 0 | AR10: =IF(P10="사용자항목16", L10, 0) -> 0 | AS10: =IF(P10="사용자항목17", L10, 0) -> 0 | AT10: =IF(P10="사용자항목18", L10, 0) -> 0 | AU10: =IF(P10="사용자항목19", L10, 0) -> 0
A11: 광 케이블 | B11: SM 8C, 난연 | C11: M | D11: 76.3 | O11: ="05" -> 05 | P11: 기계경비 | Q11: 1 | R11: =IF(P11="기계경비", J11, 0) -> 0 | S11: =IF(P11="운반비", L11, 0) -> 0 | T11: =IF(P11="작업부산물", F11, 0) -> 0 | U11: =IF(P11="관급", F11, 0) -> 0 | V11: =IF(P11="외주비", J11, 0) -> 0 | W11: =IF(P11="장비비", J11, 0) -> 0 | X11: =IF(P11="폐기물처리비", L11, 0) -> 0 | Y11: =IF(P11="가설비", J11, 0) -> 0 | Z11: =IF(P11="잡비제외분", F11, 0) -> 0 | AA11: =IF(P11="사급자재대", L11, 0) -> 0 | AB11: =IF(P11="관급자재대", L11, 0) -> 0 | AC11: =IF(P11="사용자항목1", L11, 0) -> 0 | AD11: =IF(P11="사용자항목2", L11, 0) -> 0 | AE11: =IF(P11="안전관리비", L11, 0) -> 0 | AF11: =IF(P11="품질관리비", L11, 0) -> 0 | AG11: =IF(P11="작업부산물(철거해체)", L11, 0) -> 0 | AH11: =IF(P11="사용자항목6", L11, 0) -> 0 | AI11: =IF(P11="사용자항목7", L11, 0) -> 0 | AJ11: =IF(P11="사용자항목8", L11, 0) -> 0 | AK11: =IF(P11="사용자항목9", L11, 0) -> 0 | AL11: =IF(P11="사용자항목10", L11, 0) -> 0 | AM11: =IF(P11="사용자항목11", L11, 0) -> 0 | AN11: =IF(P11="사용자항목12", L11, 0) -> 0 | AO11: =IF(P11="사용자항목13", L11, 0) -> 0 | AP11: =IF(P11="사용자항목14", L11, 0) -> 0 | AQ11: =IF(P11="사용자항목15", L11, 0) -> 0 | AR11: =IF(P11="사용자항목16", L11, 0) -> 0 | AS11: =IF(P11="사용자항목17", L11, 0) -> 0 | AT11: =IF(P11="사용자항목18", L11, 0) -> 0 | AU11: =IF(P11="사용자항목19", L11, 0) -> 0
A12: UTP케이블 | B12: UTP케이블, Cat6, 4P | C12: m | D12: 2102.2 | O12: ="05" -> 05 | P12: 기계경비 | Q12: 1 | R12: =IF(P12="기계경비", J12, 0) -> 0 | S12: =IF(P12="운반비", L12, 0) -> 0 | T12: =IF(P12="작업부산물", F12, 0) -> 0 | U12: =IF(P12="관급", F12, 0) -> 0 | V12: =IF(P12="외주비", J12, 0) -> 0 | W12: =IF(P12="장비비", J12, 0) -> 0 | X12: =IF(P12="폐기물처리비", L12, 0) -> 0 | Y12: =IF(P12="가설비", J12, 0) -> 0 | Z12: =IF(P12="잡비제외분", F12, 0) -> 0 | AA12: =IF(P12="사급자재대", L12, 0) -> 0 | AB12: =IF(P12="관급자재대", L12, 0) -> 0 | AC12: =IF(P12="사용자항목1", L12, 0) -> 0 | AD12: =IF(P12="사용자항목2", L12, 0) -> 0 | AE12: =IF(P12="안전관리비", L12, 0) -> 0 | AF12: =IF(P12="품질관리비", L12, 0) -> 0 | AG12: =IF(P12="작업부산물(철거해체)", L12, 0) -> 0 | AH12: =IF(P12="사용자항목6", L12, 0) -> 0 | AI12: =IF(P12="사용자항목7", L12, 0) -> 0 | AJ12: =IF(P12="사용자항목8", L12, 0) -> 0 | AK12: =IF(P12="사용자항목9", L12, 0) -> 0 | AL12: =IF(P12="사용자항목10", L12, 0) -> 0 | AM12: =IF(P12="사용자항목11", L12, 0) -> 0 | AN12: =IF(P12="사용자항목12", L12, 0) -> 0 | AO12: =IF(P12="사용자항목13", L12, 0) -> 0 | AP12: =IF(P12="사용자항목14", L12, 0) -> 0 | AQ12: =IF(P12="사용자항목15", L12, 0) -> 0 | AR12: =IF(P12="사용자항목16", L12, 0) -> 0 | AS12: =IF(P12="사용자항목17", L12, 0) -> 0 | AT12: =IF(P12="사용자항목18", L12, 0) -> 0 | AU12: =IF(P12="사용자항목19", L12, 0) -> 0
A13: 소모품비 | B13: ="배관배선의 " & N13*100 & "%" -> 배관배선의 2% | C13: 식 | D13: 1 | N13: 0.02 | O13: ="" | P13: 기계경비 | Q13: 1 | R13: =IF(P13="기계경비", J13, 0) -> 0 | S13: =IF(P13="운반비", L13, 0) -> 0 | T13: =IF(P13="작업부산물", F13, 0) -> 0 | U13: =IF(P13="관급", F13, 0) -> 0 | V13: =IF(P13="외주비", J13, 0) -> 0 | W13: =IF(P13="장비비", J13, 0) -> 0 | X13: =IF(P13="폐기물처리비", L13, 0) -> 0 | Y13: =IF(P13="가설비", J13, 0) -> 0 | Z13: =IF(P13="잡비제외분", F13, 0) -> 0 | AA13: =IF(P13="사급자재대", L13, 0) -> 0 | AB13: =IF(P13="관급자재대", L13, 0) -> 0 | AC13: =IF(P13="사용자항목1", L13, 0) -> 0 | AD13: =IF(P13="사용자항목2", L13, 0) -> 0 | AE13: =IF(P13="안전관리비", L13, 0) -> 0 | AF13: =IF(P13="품질관리비", L13, 0) -> 0 | AG13: =IF(P13="작업부산물(철거해체)", L13, 0) -> 0 | AH13: =IF(P13="사용자항목6", L13, 0) -> 0 | AI13: =IF(P13="사용자항목7", L13, 0) -> 0 | AJ13: =IF(P13="사용자항목8", L13, 0) -> 0 | AK13: =IF(P13="사용자항목9", L13, 0) -> 0 | AL13: =IF(P13="사용자항목10", L13, 0) -> 0 | AM13: =IF(P13="사용자항목11", L13, 0) -> 0 | AN13: =IF(P13="사용자항목12", L13, 0) -> 0 | AO13: =IF(P13="사용자항목13", L13, 0) -> 0 | AP13: =IF(P13="사용자항목14", L13, 0) -> 0 | AQ13: =IF(P13="사용자항목15", L13, 0) -> 0 | AR13: =IF(P13="사용자항목16", L13, 0) -> 0 | AS13: =IF(P13="사용자항목17", L13, 0) -> 0 | AT13: =IF(P13="사용자항목18", L13, 0) -> 0 | AU13: =IF(P13="사용자항목19", L13, 0) -> 0 | AW13: 20 | AX13: A0405000000
A14: 아웃렛박스 | B14: 중형4각, 54mm | C14: 개 | D14: 3 | O14: ="01" -> 01 | P14: 기계경비 | Q14: 1 | R14: =IF(P14="기계경비", J14, 0) -> 0 | S14: =IF(P14="운반비", L14, 0) -> 0 | T14: =IF(P14="작업부산물", F14, 0) -> 0 | U14: =IF(P14="관급", F14, 0) -> 0 | V14: =IF(P14="외주비", J14, 0) -> 0 | W14: =IF(P14="장비비", J14, 0) -> 0 | X14: =IF(P14="폐기물처리비", L14, 0) -> 0 | Y14: =IF(P14="가설비", J14, 0) -> 0 | Z14: =IF(P14="잡비제외분", F14, 0) -> 0 | AA14: =IF(P14="사급자재대", L14, 0) -> 0 | AB14: =IF(P14="관급자재대", L14, 0) -> 0 | AC14: =IF(P14="사용자항목1", L14, 0) -> 0 | AD14: =IF(P14="사용자항목2", L14, 0) -> 0 | AE14: =IF(P14="안전관리비", L14, 0) -> 0 | AF14: =IF(P14="품질관리비", L14, 0) -> 0 | AG14: =IF(P14="작업부산물(철거해체)", L14, 0) -> 0 | AH14: =IF(P14="사용자항목6", L14, 0) -> 0 | AI14: =IF(P14="사용자항목7", L14, 0) -> 0 | AJ14: =IF(P14="사용자항목8", L14, 0) -> 0 | AK14: =IF(P14="사용자항목9", L14, 0) -> 0 | AL14: =IF(P14="사용자항목10", L14, 0) -> 0 | AM14: =IF(P14="사용자항목11", L14, 0) -> 0 | AN14: =IF(P14="사용자항목12", L14, 0) -> 0 | AO14: =IF(P14="사용자항목13", L14, 0) -> 0 | AP14: =IF(P14="사용자항목14", L14, 0) -> 0 | AQ14: =IF(P14="사용자항목15", L14, 0) -> 0 | AR14: =IF(P14="사용자항목16", L14, 0) -> 0 | AS14: =IF(P14="사용자항목17", L14, 0) -> 0 | AT14: =IF(P14="사용자항목18", L14, 0) -> 0 | AU14: =IF(P14="사용자항목19", L14, 0) -> 0
A15: 아웃렛박스 | B15: 커버, 4각, 평 | C15: 개 | D15: 3 | O15: ="01" -> 01 | P15: 기계경비 | Q15: 1 | R15: =IF(P15="기계경비", J15, 0) -> 0 | S15: =IF(P15="운반비", L15, 0) -> 0 | T15: =IF(P15="작업부산물", F15, 0) -> 0 | U15: =IF(P15="관급", F15, 0) -> 0 | V15: =IF(P15="외주비", J15, 0) -> 0 | W15: =IF(P15="장비비", J15, 0) -> 0 | X15: =IF(P15="폐기물처리비", L15, 0) -> 0 | Y15: =IF(P15="가설비", J15, 0) -> 0 | Z15: =IF(P15="잡비제외분", F15, 0) -> 0 | AA15: =IF(P15="사급자재대", L15, 0) -> 0 | AB15: =IF(P15="관급자재대", L15, 0) -> 0 | AC15: =IF(P15="사용자항목1", L15, 0) -> 0 | AD15: =IF(P15="사용자항목2", L15, 0) -> 0 | AE15: =IF(P15="안전관리비", L15, 0) -> 0 | AF15: =IF(P15="품질관리비", L15, 0) -> 0 | AG15: =IF(P15="작업부산물(철거해체)", L15, 0) -> 0 | AH15: =IF(P15="사용자항목6", L15, 0) -> 0 | AI15: =IF(P15="사용자항목7", L15, 0) -> 0 | AJ15: =IF(P15="사용자항목8", L15, 0) -> 0 | AK15: =IF(P15="사용자항목9", L15, 0) -> 0 | AL15: =IF(P15="사용자항목10", L15, 0) -> 0 | AM15: =IF(P15="사용자항목11", L15, 0) -> 0 | AN15: =IF(P15="사용자항목12", L15, 0) -> 0 | AO15: =IF(P15="사용자항목13", L15, 0) -> 0 | AP15: =IF(P15="사용자항목14", L15, 0) -> 0 | AQ15: =IF(P15="사용자항목15", L15, 0) -> 0 | AR15: =IF(P15="사용자항목16", L15, 0) -> 0 | AS15: =IF(P15="사용자항목17", L15, 0) -> 0 | AT15: =IF(P15="사용자항목18", L15, 0) -> 0 | AU15: =IF(P15="사용자항목19", L15, 0) -> 0
A16: 8Pin 모듈러짹 | B16: 2구 | C16: 개 | D16: 38 | O16: ="01" -> 01 | P16: 기계경비 | Q16: 1 | R16: =IF(P16="기계경비", J16, 0) -> 0 | S16: =IF(P16="운반비", L16, 0) -> 0 | T16: =IF(P16="작업부산물", F16, 0) -> 0 | U16: =IF(P16="관급", F16, 0) -> 0 | V16: =IF(P16="외주비", J16, 0) -> 0 | W16: =IF(P16="장비비", J16, 0) -> 0 | X16: =IF(P16="폐기물처리비", L16, 0) -> 0 | Y16: =IF(P16="가설비", J16, 0) -> 0 | Z16: =IF(P16="잡비제외분", F16, 0) -> 0 | AA16: =IF(P16="사급자재대", L16, 0) -> 0 | AB16: =IF(P16="관급자재대", L16, 0) -> 0 | AC16: =IF(P16="사용자항목1", L16, 0) -> 0 | AD16: =IF(P16="사용자항목2", L16, 0) -> 0 | AE16: =IF(P16="안전관리비", L16, 0) -> 0 | AF16: =IF(P16="품질관리비", L16, 0) -> 0 | AG16: =IF(P16="작업부산물(철거해체)", L16, 0) -> 0 | AH16: =IF(P16="사용자항목6", L16, 0) -> 0 | AI16: =IF(P16="사용자항목7", L16, 0) -> 0 | AJ16: =IF(P16="사용자항목8", L16, 0) -> 0 | AK16: =IF(P16="사용자항목9", L16, 0) -> 0 | AL16: =IF(P16="사용자항목10", L16, 0) -> 0 | AM16: =IF(P16="사용자항목11", L16, 0) -> 0 | AN16: =IF(P16="사용자항목12", L16, 0) -> 0 | AO16: =IF(P16="사용자항목13", L16, 0) -> 0 | AP16: =IF(P16="사용자항목14", L16, 0) -> 0 | AQ16: =IF(P16="사용자항목15", L16, 0) -> 0 | AR16: =IF(P16="사용자항목16", L16, 0) -> 0 | AS16: =IF(P16="사용자항목17", L16, 0) -> 0 | AT16: =IF(P16="사용자항목18", L16, 0) -> 0 | AU16: =IF(P16="사용자항목19", L16, 0) -> 0
A17: 전선덕트 | B17: 알루미늄, 100×50mm | C17: m | D17: 68.3 | O17: ="01" -> 01 | P17: 기계경비 | Q17: 1 | R17: =IF(P17="기계경비", J17, 0) -> 0 | S17: =IF(P17="운반비", L17, 0) -> 0 | T17: =IF(P17="작업부산물", F17, 0) -> 0 | U17: =IF(P17="관급", F17, 0) -> 0 | V17: =IF(P17="외주비", J17, 0) -> 0 | W17: =IF(P17="장비비", J17, 0) -> 0 | X17: =IF(P17="폐기물처리비", L17, 0) -> 0 | Y17: =IF(P17="가설비", J17, 0) -> 0 | Z17: =IF(P17="잡비제외분", F17, 0) -> 0 | AA17: =IF(P17="사급자재대", L17, 0) -> 0 | AB17: =IF(P17="관급자재대", L17, 0) -> 0 | AC17: =IF(P17="사용자항목1", L17, 0) -> 0 | AD17: =IF(P17="사용자항목2", L17, 0) -> 0 | AE17: =IF(P17="안전관리비", L17, 0) -> 0 | AF17: =IF(P17="품질관리비", L17, 0) -> 0 | AG17: =IF(P17="작업부산물(철거해체)", L17, 0) -> 0 | AH17: =IF(P17="사용자항목6", L17, 0) -> 0 | AI17: =IF(P17="사용자항목7", L17, 0) -> 0 | AJ17: =IF(P17="사용자항목8", L17, 0) -> 0 | AK17: =IF(P17="사용자항목9", L17, 0) -> 0 | AL17: =IF(P17="사용자항목10", L17, 0) -> 0 | AM17: =IF(P17="사용자항목11", L17, 0) -> 0 | AN17: =IF(P17="사용자항목12", L17, 0) -> 0 | AO17: =IF(P17="사용자항목13", L17, 0) -> 0 | AP17: =IF(P17="사용자항목14", L17, 0) -> 0 | AQ17: =IF(P17="사용자항목15", L17, 0) -> 0 | AR17: =IF(P17="사용자항목16", L17, 0) -> 0 | AS17: =IF(P17="사용자항목17", L17, 0) -> 0 | AT17: =IF(P17="사용자항목18", L17, 0) -> 0 | AU17: =IF(P17="사용자항목19", L17, 0) -> 0
A18: 전선덕트 | B18: 알루미늄, 엘보ㄱ/ㄴ/T형, 50mm | C18: 개 | D18: 8.4 | O18: ="01" -> 01 | P18: 기계경비 | Q18: 1 | R18: =IF(P18="기계경비", J18, 0) -> 0 | S18: =IF(P18="운반비", L18, 0) -> 0 | T18: =IF(P18="작업부산물", F18, 0) -> 0 | U18: =IF(P18="관급", F18, 0) -> 0 | V18: =IF(P18="외주비", J18, 0) -> 0 | W18: =IF(P18="장비비", J18, 0) -> 0 | X18: =IF(P18="폐기물처리비", L18, 0) -> 0 | Y18: =IF(P18="가설비", J18, 0) -> 0 | Z18: =IF(P18="잡비제외분", F18, 0) -> 0 | AA18: =IF(P18="사급자재대", L18, 0) -> 0 | AB18: =IF(P18="관급자재대", L18, 0) -> 0 | AC18: =IF(P18="사용자항목1", L18, 0) -> 0 | AD18: =IF(P18="사용자항목2", L18, 0) -> 0 | AE18: =IF(P18="안전관리비", L18, 0) -> 0 | AF18: =IF(P18="품질관리비", L18, 0) -> 0 | AG18: =IF(P18="작업부산물(철거해체)", L18, 0) -> 0 | AH18: =IF(P18="사용자항목6", L18, 0) -> 0 | AI18: =IF(P18="사용자항목7", L18, 0) -> 0 | AJ18: =IF(P18="사용자항목8", L18, 0) -> 0 | AK18: =IF(P18="사용자항목9", L18, 0) -> 0 | AL18: =IF(P18="사용자항목10", L18, 0) -> 0 | AM18: =IF(P18="사용자항목11", L18, 0) -> 0 | AN18: =IF(P18="사용자항목12", L18, 0) -> 0 | AO18: =IF(P18="사용자항목13", L18, 0) -> 0 | AP18: =IF(P18="사용자항목14", L18, 0) -> 0 | AQ18: =IF(P18="사용자항목15", L18, 0) -> 0 | AR18: =IF(P18="사용자항목16", L18, 0) -> 0 | AS18: =IF(P18="사용자항목17", L18, 0) -> 0 | AT18: =IF(P18="사용자항목18", L18, 0) -> 0 | AU18: =IF(P18="사용자항목19", L18, 0) -> 0
A19: 구멍뚫기(통신) | B19: 깊이 50㎜ 이하 | C19: 개소 | D19: 3 | M19: 일위 1호 | O19: ="" | P19: 기계경비 | Q19: 1 | R19: =IF(P19="기계경비", J19, 0) -> 0 | S19: =IF(P19="운반비", L19, 0) -> 0 | T19: =IF(P19="작업부산물", F19, 0) -> 0 | U19: =IF(P19="관급", F19, 0) -> 0 | V19: =IF(P19="외주비", J19, 0) -> 0 | W19: =IF(P19="장비비", J19, 0) -> 0 | X19: =IF(P19="폐기물처리비", L19, 0) -> 0 | Y19: =IF(P19="가설비", J19, 0) -> 0 | Z19: =IF(P19="잡비제외분", F19, 0) -> 0 | AA19: =IF(P19="사급자재대", L19, 0) -> 0 | AB19: =IF(P19="관급자재대", L19, 0) -> 0 | AC19: =IF(P19="사용자항목1", L19, 0) -> 0 | AD19: =IF(P19="사용자항목2", L19, 0) -> 0 | AE19: =IF(P19="안전관리비", L19, 0) -> 0 | AF19: =IF(P19="품질관리비", L19, 0) -> 0 | AG19: =IF(P19="작업부산물(철거해체)", L19, 0) -> 0 | AH19: =IF(P19="사용자항목6", L19, 0) -> 0 | AI19: =IF(P19="사용자항목7", L19, 0) -> 0 | AJ19: =IF(P19="사용자항목8", L19, 0) -> 0 | AK19: =IF(P19="사용자항목9", L19, 0) -> 0 | AL19: =IF(P19="사용자항목10", L19, 0) -> 0 | AM19: =IF(P19="사용자항목11", L19, 0) -> 0 | AN19: =IF(P19="사용자항목12", L19, 0) -> 0 | AO19: =IF(P19="사용자항목13", L19, 0) -> 0 | AP19: =IF(P19="사용자항목14", L19, 0) -> 0 | AQ19: =IF(P19="사용자항목15", L19, 0) -> 0 | AR19: =IF(P19="사용자항목16", L19, 0) -> 0 | AS19: =IF(P19="사용자항목17", L19, 0) -> 0 | AT19: =IF(P19="사용자항목18", L19, 0) -> 0 | AU19: =IF(P19="사용자항목19", L19, 0) -> 0
A20: 덕트용 구멍뚫기 | B20: 면적 0.1㎡, 두께 150mm 이하 | C20: 개소 | D20: 2 | M20: 일위 2호 | O20: ="" | P20: 기계경비 | Q20: 1 | R20: =IF(P20="기계경비", J20, 0) -> 0 | S20: =IF(P20="운반비", L20, 0) -> 0 | T20: =IF(P20="작업부산물", F20, 0) -> 0 | U20: =IF(P20="관급", F20, 0) -> 0 | V20: =IF(P20="외주비", J20, 0) -> 0 | W20: =IF(P20="장비비", J20, 0) -> 0 | X20: =IF(P20="폐기물처리비", L20, 0) -> 0 | Y20: =IF(P20="가설비", J20, 0) -> 0 | Z20: =IF(P20="잡비제외분", F20, 0) -> 0 | AA20: =IF(P20="사급자재대", L20, 0) -> 0 | AB20: =IF(P20="관급자재대", L20, 0) -> 0 | AC20: =IF(P20="사용자항목1", L20, 0) -> 0 | AD20: =IF(P20="사용자항목2", L20, 0) -> 0 | AE20: =IF(P20="안전관리비", L20, 0) -> 0 | AF20: =IF(P20="품질관리비", L20, 0) -> 0 | AG20: =IF(P20="작업부산물(철거해체)", L20, 0) -> 0 | AH20: =IF(P20="사용자항목6", L20, 0) -> 0 | AI20: =IF(P20="사용자항목7", L20, 0) -> 0 | AJ20: =IF(P20="사용자항목8", L20, 0) -> 0 | AK20: =IF(P20="사용자항목9", L20, 0) -> 0 | AL20: =IF(P20="사용자항목10", L20, 0) -> 0 | AM20: =IF(P20="사용자항목11", L20, 0) -> 0 | AN20: =IF(P20="사용자항목12", L20, 0) -> 0 | AO20: =IF(P20="사용자항목13", L20, 0) -> 0 | AP20: =IF(P20="사용자항목14", L20, 0) -> 0 | AQ20: =IF(P20="사용자항목15", L20, 0) -> 0 | AR20: =IF(P20="사용자항목16", L20, 0) -> 0 | AS20: =IF(P20="사용자항목17", L20, 0) -> 0 | AT20: =IF(P20="사용자항목18", L20, 0) -> 0 | AU20: =IF(P20="사용자항목19", L20, 0) -> 0 | AY20: 통신
A21: 공구손료 | B21: ="노무비의 " & N21*100 & "%" -> 노무비의 3% | C21: 식 | D21: 1 | N21: 0.03 | O21: ="" | P21: 기계경비 | Q21: 1 | R21: =IF(P21="기계경비", J21, 0) -> 0 | S21: =IF(P21="운반비", L21, 0) -> 0 | T21: =IF(P21="작업부산물", F21, 0) -> 0 | U21: =IF(P21="관급", F21, 0) -> 0 | V21: =IF(P21="외주비", J21, 0) -> 0 | W21: =IF(P21="장비비", J21, 0) -> 0 | X21: =IF(P21="폐기물처리비", L21, 0) -> 0 | Y21: =IF(P21="가설비", J21, 0) -> 0 | Z21: =IF(P21="잡비제외분", F21, 0) -> 0 | AA21: =IF(P21="사급자재대", L21, 0) -> 0 | AB21: =IF(P21="관급자재대", L21, 0) -> 0 | AC21: =IF(P21="사용자항목1", L21, 0) -> 0 | AD21: =IF(P21="사용자항목2", L21, 0) -> 0 | AE21: =IF(P21="안전관리비", L21, 0) -> 0 | AF21: =IF(P21="품질관리비", L21, 0) -> 0 | AG21: =IF(P21="작업부산물(철거해체)", L21, 0) -> 0 | AH21: =IF(P21="사용자항목6", L21, 0) -> 0 | AI21: =IF(P21="사용자항목7", L21, 0) -> 0 | AJ21: =IF(P21="사용자항목8", L21, 0) -> 0 | AK21: =IF(P21="사용자항목9", L21, 0) -> 0 | AL21: =IF(P21="사용자항목10", L21, 0) -> 0 | AM21: =IF(P21="사용자항목11", L21, 0) -> 0 | AN21: =IF(P21="사용자항목12", L21, 0) -> 0 | AO21: =IF(P21="사용자항목13", L21, 0) -> 0 | AP21: =IF(P21="사용자항목14", L21, 0) -> 0 | AQ21: =IF(P21="사용자항목15", L21, 0) -> 0 | AR21: =IF(P21="사용자항목16", L21, 0) -> 0 | AS21: =IF(P21="사용자항목17", L21, 0) -> 0 | AT21: =IF(P21="사용자항목18", L21, 0) -> 0 | AU21: =IF(P21="사용자항목19", L21, 0) -> 0 | AW21: 23 | AX21: A0200000000
A22: 내선전공 | B22: 일반공사 직종 | C22: 인 | D22: 17.195 | O22: ="02" -> 02 | P22: 기계경비 | Q22: 1 | R22: =IF(P22="기계경비", J22, 0) -> 0 | S22: =IF(P22="운반비", L22, 0) -> 0 | T22: =IF(P22="작업부산물", F22, 0) -> 0 | U22: =IF(P22="관급", F22, 0) -> 0 | V22: =IF(P22="외주비", J22, 0) -> 0 | W22: =IF(P22="장비비", J22, 0) -> 0 | X22: =IF(P22="폐기물처리비", L22, 0) -> 0 | Y22: =IF(P22="가설비", J22, 0) -> 0 | Z22: =IF(P22="잡비제외분", F22, 0) -> 0 | AA22: =IF(P22="사급자재대", L22, 0) -> 0 | AB22: =IF(P22="관급자재대", L22, 0) -> 0 | AC22: =IF(P22="사용자항목1", L22, 0) -> 0 | AD22: =IF(P22="사용자항목2", L22, 0) -> 0 | AE22: =IF(P22="안전관리비", L22, 0) -> 0 | AF22: =IF(P22="품질관리비", L22, 0) -> 0 | AG22: =IF(P22="작업부산물(철거해체)", L22, 0) -> 0 | AH22: =IF(P22="사용자항목6", L22, 0) -> 0 | AI22: =IF(P22="사용자항목7", L22, 0) -> 0 | AJ22: =IF(P22="사용자항목8", L22, 0) -> 0 | AK22: =IF(P22="사용자항목9", L22, 0) -> 0 | AL22: =IF(P22="사용자항목10", L22, 0) -> 0 | AM22: =IF(P22="사용자항목11", L22, 0) -> 0 | AN22: =IF(P22="사용자항목12", L22, 0) -> 0 | AO22: =IF(P22="사용자항목13", L22, 0) -> 0 | AP22: =IF(P22="사용자항목14", L22, 0) -> 0 | AQ22: =IF(P22="사용자항목15", L22, 0) -> 0 | AR22: =IF(P22="사용자항목16", L22, 0) -> 0 | AS22: =IF(P22="사용자항목17", L22, 0) -> 0 | AT22: =IF(P22="사용자항목18", L22, 0) -> 0 | AU22: =IF(P22="사용자항목19", L22, 0) -> 0
A23: 광케이블설치사 | B23: 광전자 직종 | C23: 인 | D23: 0.653 | O23: ="02" -> 02 | P23: 기계경비 | Q23: 1 | R23: =IF(P23="기계경비", J23, 0) -> 0 | S23: =IF(P23="운반비", L23, 0) -> 0 | T23: =IF(P23="작업부산물", F23, 0) -> 0 | U23: =IF(P23="관급", F23, 0) -> 0 | V23: =IF(P23="외주비", J23, 0) -> 0 | W23: =IF(P23="장비비", J23, 0) -> 0 | X23: =IF(P23="폐기물처리비", L23, 0) -> 0 | Y23: =IF(P23="가설비", J23, 0) -> 0 | Z23: =IF(P23="잡비제외분", F23, 0) -> 0 | AA23: =IF(P23="사급자재대", L23, 0) -> 0 | AB23: =IF(P23="관급자재대", L23, 0) -> 0 | AC23: =IF(P23="사용자항목1", L23, 0) -> 0 | AD23: =IF(P23="사용자항목2", L23, 0) -> 0 | AE23: =IF(P23="안전관리비", L23, 0) -> 0 | AF23: =IF(P23="품질관리비", L23, 0) -> 0 | AG23: =IF(P23="작업부산물(철거해체)", L23, 0) -> 0 | AH23: =IF(P23="사용자항목6", L23, 0) -> 0 | AI23: =IF(P23="사용자항목7", L23, 0) -> 0 | AJ23: =IF(P23="사용자항목8", L23, 0) -> 0 | AK23: =IF(P23="사용자항목9", L23, 0) -> 0 | AL23: =IF(P23="사용자항목10", L23, 0) -> 0 | AM23: =IF(P23="사용자항목11", L23, 0) -> 0 | AN23: =IF(P23="사용자항목12", L23, 0) -> 0 | AO23: =IF(P23="사용자항목13", L23, 0) -> 0 | AP23: =IF(P23="사용자항목14", L23, 0) -> 0 | AQ23: =IF(P23="사용자항목15", L23, 0) -> 0 | AR23: =IF(P23="사용자항목16", L23, 0) -> 0 | AS23: =IF(P23="사용자항목17", L23, 0) -> 0 | AT23: =IF(P23="사용자항목18", L23, 0) -> 0 | AU23: =IF(P23="사용자항목19", L23, 0) -> 0
A24: 특별인부 | B24: 일반공사 직종 | C24: 인 | D24: 0.327 | O24: ="02" -> 02 | P24: 기계경비 | Q24: 1 | R24: =IF(P24="기계경비", J24, 0) -> 0 | S24: =IF(P24="운반비", L24, 0) -> 0 | T24: =IF(P24="작업부산물", F24, 0) -> 0 | U24: =IF(P24="관급", F24, 0) -> 0 | V24: =IF(P24="외주비", J24, 0) -> 0 | W24: =IF(P24="장비비", J24, 0) -> 0 | X24: =IF(P24="폐기물처리비", L24, 0) -> 0 | Y24: =IF(P24="가설비", J24, 0) -> 0 | Z24: =IF(P24="잡비제외분", F24, 0) -> 0 | AA24: =IF(P24="사급자재대", L24, 0) -> 0 | AB24: =IF(P24="관급자재대", L24, 0) -> 0 | AC24: =IF(P24="사용자항목1", L24, 0) -> 0 | AD24: =IF(P24="사용자항목2", L24, 0) -> 0 | AE24: =IF(P24="안전관리비", L24, 0) -> 0 | AF24: =IF(P24="품질관리비", L24, 0) -> 0 | AG24: =IF(P24="작업부산물(철거해체)", L24, 0) -> 0 | AH24: =IF(P24="사용자항목6", L24, 0) -> 0 | AI24: =IF(P24="사용자항목7", L24, 0) -> 0 | AJ24: =IF(P24="사용자항목8", L24, 0) -> 0 | AK24: =IF(P24="사용자항목9", L24, 0) -> 0 | AL24: =IF(P24="사용자항목10", L24, 0) -> 0 | AM24: =IF(P24="사용자항목11", L24, 0) -> 0 | AN24: =IF(P24="사용자항목12", L24, 0) -> 0 | AO24: =IF(P24="사용자항목13", L24, 0) -> 0 | AP24: =IF(P24="사용자항목14", L24, 0) -> 0 | AQ24: =IF(P24="사용자항목15", L24, 0) -> 0 | AR24: =IF(P24="사용자항목16", L24, 0) -> 0 | AS24: =IF(P24="사용자항목17", L24, 0) -> 0 | AT24: =IF(P24="사용자항목18", L24, 0) -> 0 | AU24: =IF(P24="사용자항목19", L24, 0) -> 0
A25: 통신케이블공 | B25: 일반공사 직종 | C25: 인 | D25: 29.333 | O25: ="02" -> 02 | P25: 기계경비 | Q25: 1 | R25: =IF(P25="기계경비", J25, 0) -> 0 | S25: =IF(P25="운반비", L25, 0) -> 0 | T25: =IF(P25="작업부산물", F25, 0) -> 0 | U25: =IF(P25="관급", F25, 0) -> 0 | V25: =IF(P25="외주비", J25, 0) -> 0 | W25: =IF(P25="장비비", J25, 0) -> 0 | X25: =IF(P25="폐기물처리비", L25, 0) -> 0 | Y25: =IF(P25="가설비", J25, 0) -> 0 | Z25: =IF(P25="잡비제외분", F25, 0) -> 0 | AA25: =IF(P25="사급자재대", L25, 0) -> 0 | AB25: =IF(P25="관급자재대", L25, 0) -> 0 | AC25: =IF(P25="사용자항목1", L25, 0) -> 0 | AD25: =IF(P25="사용자항목2", L25, 0) -> 0 | AE25: =IF(P25="안전관리비", L25, 0) -> 0 | AF25: =IF(P25="품질관리비", L25, 0) -> 0 | AG25: =IF(P25="작업부산물(철거해체)", L25, 0) -> 0 | AH25: =IF(P25="사용자항목6", L25, 0) -> 0 | AI25: =IF(P25="사용자항목7", L25, 0) -> 0 | AJ25: =IF(P25="사용자항목8", L25, 0) -> 0 | AK25: =IF(P25="사용자항목9", L25, 0) -> 0 | AL25: =IF(P25="사용자항목10", L25, 0) -> 0 | AM25: =IF(P25="사용자항목11", L25, 0) -> 0 | AN25: =IF(P25="사용자항목12", L25, 0) -> 0 | AO25: =IF(P25="사용자항목13", L25, 0) -> 0 | AP25: =IF(P25="사용자항목14", L25, 0) -> 0 | AQ25: =IF(P25="사용자항목15", L25, 0) -> 0 | AR25: =IF(P25="사용자항목16", L25, 0) -> 0 | AS25: =IF(P25="사용자항목17", L25, 0) -> 0 | AT25: =IF(P25="사용자항목18", L25, 0) -> 0 | AU25: =IF(P25="사용자항목19", L25, 0) -> 0
A26: 통신내선공 | B26: 일반공사 직종 | C26: 인 | D26: 0.494 | O26: ="02" -> 02 | P26: 기계경비 | Q26: 1 | R26: =IF(P26="기계경비", J26, 0) -> 0 | S26: =IF(P26="운반비", L26, 0) -> 0 | T26: =IF(P26="작업부산물", F26, 0) -> 0 | U26: =IF(P26="관급", F26, 0) -> 0 | V26: =IF(P26="외주비", J26, 0) -> 0 | W26: =IF(P26="장비비", J26, 0) -> 0 | X26: =IF(P26="폐기물처리비", L26, 0) -> 0 | Y26: =IF(P26="가설비", J26, 0) -> 0 | Z26: =IF(P26="잡비제외분", F26, 0) -> 0 | AA26: =IF(P26="사급자재대", L26, 0) -> 0 | AB26: =IF(P26="관급자재대", L26, 0) -> 0 | AC26: =IF(P26="사용자항목1", L26, 0) -> 0 | AD26: =IF(P26="사용자항목2", L26, 0) -> 0 | AE26: =IF(P26="안전관리비", L26, 0) -> 0 | AF26: =IF(P26="품질관리비", L26, 0) -> 0 | AG26: =IF(P26="작업부산물(철거해체)", L26, 0) -> 0 | AH26: =IF(P26="사용자항목6", L26, 0) -> 0 | AI26: =IF(P26="사용자항목7", L26, 0) -> 0 | AJ26: =IF(P26="사용자항목8", L26, 0) -> 0 | AK26: =IF(P26="사용자항목9", L26, 0) -> 0 | AL26: =IF(P26="사용자항목10", L26, 0) -> 0 | AM26: =IF(P26="사용자항목11", L26, 0) -> 0 | AN26: =IF(P26="사용자항목12", L26, 0) -> 0 | AO26: =IF(P26="사용자항목13", L26, 0) -> 0 | AP26: =IF(P26="사용자항목14", L26, 0) -> 0 | AQ26: =IF(P26="사용자항목15", L26, 0) -> 0 | AR26: =IF(P26="사용자항목16", L26, 0) -> 0 | AS26: =IF(P26="사용자항목17", L26, 0) -> 0 | AT26: =IF(P26="사용자항목18", L26, 0) -> 0 | AU26: =IF(P26="사용자항목19", L26, 0) -> 0
A28: 합 계 | F28: =ROUNDDOWN(SUMIF(Q6:Q27, "1", F6:F27), 0) -> 0 | H28: =ROUNDDOWN(SUMIF(Q6:Q27, "1", H6:H27), 0) -> 0 | J28: =ROUNDDOWN(SUMIF(Q6:Q27, "1", J6:J27), 0) -> 0 | L28: =F28+H28+J28 -> 0 | R28: =ROUNDDOWN(SUM(R6:R26), 0) -> 0 | S28: =ROUNDDOWN(SUM(S6:S26), 0) -> 0 | T28: =ROUNDDOWN(SUM(T6:T26), 0) -> 0 | U28: =ROUNDDOWN(SUM(U6:U26), 0) -> 0 | V28: =ROUNDDOWN(SUM(V6:V26), 0) -> 0 | W28: =ROUNDDOWN(SUM(W6:W26), 0) -> 0 | X28: =ROUNDDOWN(SUM(X6:X26), 0) -> 0 | Y28: =ROUNDDOWN(SUM(Y6:Y26), 0) -> 0 | ... AY28: =ROUNDDOWN(SUM(AY6:AY26), 0) -> 0
A29: 1-2. TV설비공사
A30: 1종금속제가요전선관 | B30: 고장력후렉시블전선관, 16mm, 비방수 | C30: m | D30: 41.8 | O30: ="04" -> 04 | P30: 기계경비 | Q30: 1 | R30: =IF(P30="기계경비", J30, 0) -> 0 | S30: =IF(P30="운반비", L30, 0) -> 0 | T30: =IF(P30="작업부산물", F30, 0) -> 0 | U30: =IF(P30="관급", F30, 0) -> 0 | V30: =IF(P30="외주비", J30, 0) -> 0 | W30: =IF(P30="장비비", J30, 0) -> 0 | X30: =IF(P30="폐기물처리비", L30, 0) -> 0 | Y30: =IF(P30="가설비", J30, 0) -> 0 | Z30: =IF(P30="잡비제외분", F30, 0) -> 0 | AA30: =IF(P30="사급자재대", L30, 0) -> 0 | AB30: =IF(P30="관급자재대", L30, 0) -> 0 | AC30: =IF(P30="사용자항목1", L30, 0) -> 0 | AD30: =IF(P30="사용자항목2", L30, 0) -> 0 | AE30: =IF(P30="안전관리비", L30, 0) -> 0 | AF30: =IF(P30="품질관리비", L30, 0) -> 0 | AG30: =IF(P30="작업부산물(철거해체)", L30, 0) -> 0 | AH30: =IF(P30="사용자항목6", L30, 0) -> 0 | AI30: =IF(P30="사용자항목7", L30, 0) -> 0 | AJ30: =IF(P30="사용자항목8", L30, 0) -> 0 | AK30: =IF(P30="사용자항목9", L30, 0) -> 0 | AL30: =IF(P30="사용자항목10", L30, 0) -> 0 | AM30: =IF(P30="사용자항목11", L30, 0) -> 0 | AN30: =IF(P30="사용자항목12", L30, 0) -> 0 | AO30: =IF(P30="사용자항목13", L30, 0) -> 0 | AP30: =IF(P30="사용자항목14", L30, 0) -> 0 | AQ30: =IF(P30="사용자항목15", L30, 0) -> 0 | AR30: =IF(P30="사용자항목16", L30, 0) -> 0 | AS30: =IF(P30="사용자항목17", L30, 0) -> 0 | AT30: =IF(P30="사용자항목18", L30, 0) -> 0 | AU30: =IF(P30="사용자항목19", L30, 0) -> 0
A31: 전선관 부속품비 | B31: ="전선관의 " & N31*100 & "%" -> 전선관의 15% | C31: 식 | D31: 1 | N31: 0.15 | O31: ="" | P31: 기계경비 | Q31: 1 | R31: =IF(P31="기계경비", J31, 0) -> 0 | S31: =IF(P31="운반비", L31, 0) -> 0 | T31: =IF(P31="작업부산물", F31, 0) -> 0 | U31: =IF(P31="관급", F31, 0) -> 0 | V31: =IF(P31="외주비", J31, 0) -> 0 | W31: =IF(P31="장비비", J31, 0) -> 0 | X31: =IF(P31="폐기물처리비", L31, 0) -> 0 | Y31: =IF(P31="가설비", J31, 0) -> 0 | Z31: =IF(P31="잡비제외분", F31, 0) -> 0 | AA31: =IF(P31="사급자재대", L31, 0) -> 0 | AB31: =IF(P31="관급자재대", L31, 0) -> 0 | AC31: =IF(P31="사용자항목1", L31, 0) -> 0 | AD31: =IF(P31="사용자항목2", L31, 0) -> 0 | AE31: =IF(P31="안전관리비", L31, 0) -> 0 | AF31: =IF(P31="품질관리비", L31, 0) -> 0 | AG31: =IF(P31="작업부산물(철거해체)", L31, 0) -> 0 | AH31: =IF(P31="사용자항목6", L31, 0) -> 0 | AI31: =IF(P31="사용자항목7", L31, 0) -> 0 | AJ31: =IF(P31="사용자항목8", L31, 0) -> 0 | AK31: =IF(P31="사용자항목9", L31, 0) -> 0 | AL31: =IF(P31="사용자항목10", L31, 0) -> 0 | AM31: =IF(P31="사용자항목11", L31, 0) -> 0 | AN31: =IF(P31="사용자항목12", L31, 0) -> 0 | AO31: =IF(P31="사용자항목13", L31, 0) -> 0 | AP31: =IF(P31="사용자항목14", L31, 0) -> 0 | AQ31: =IF(P31="사용자항목15", L31, 0) -> 0 | AR31: =IF(P31="사용자항목16", L31, 0) -> 0 | AS31: =IF(P31="사용자항목17", L31, 0) -> 0 | AT31: =IF(P31="사용자항목18", L31, 0) -> 0 | AU31: =IF(P31="사용자항목19", L31, 0) -> 0 | AW31: 20 | AX31: A0400000000 | AY31: cd관제외
A32: 1종금속제가요전선관 | B32: 박스커넥터, 16mm, 비방수 | C32: 개 | D32: 8 | O32: ="01" -> 01 | P32: 기계경비 | Q32: 1 | R32: =IF(P32="기계경비", J32, 0) -> 0 | S32: =IF(P32="운반비", L32, 0) -> 0 | T32: =IF(P32="작업부산물", F32, 0) -> 0 | U32: =IF(P32="관급", F32, 0) -> 0 | V32: =IF(P32="외주비", J32, 0) -> 0 | W32: =IF(P32="장비비", J32, 0) -> 0 | X32: =IF(P32="폐기물처리비", L32, 0) -> 0 | Y32: =IF(P32="가설비", J32, 0) -> 0 | Z32: =IF(P32="잡비제외분", F32, 0) -> 0 | AA32: =IF(P32="사급자재대", L32, 0) -> 0 | AB32: =IF(P32="관급자재대", L32, 0) -> 0 | AC32: =IF(P32="사용자항목1", L32, 0) -> 0 | AD32: =IF(P32="사용자항목2", L32, 0) -> 0 | AE32: =IF(P32="안전관리비", L32, 0) -> 0 | AF32: =IF(P32="품질관리비", L32, 0) -> 0 | AG32: =IF(P32="작업부산물(철거해체)", L32, 0) -> 0 | AH32: =IF(P32="사용자항목6", L32, 0) -> 0 | AI32: =IF(P32="사용자항목7", L32, 0) -> 0 | AJ32: =IF(P32="사용자항목8", L32, 0) -> 0 | AK32: =IF(P32="사용자항목9", L32, 0) -> 0 | AL32: =IF(P32="사용자항목10", L32, 0) -> 0 | AM32: =IF(P32="사용자항목11", L32, 0) -> 0 | AN32: =IF(P32="사용자항목12", L32, 0) -> 0 | AO32: =IF(P32="사용자항목13", L32, 0) -> 0 | AP32: =IF(P32="사용자항목14", L32, 0) -> 0 | AQ32: =IF(P32="사용자항목15", L32, 0) -> 0 | AR32: =IF(P32="사용자항목16", L32, 0) -> 0 | AS32: =IF(P32="사용자항목17", L32, 0) -> 0 | AT32: =IF(P32="사용자항목18", L32, 0) -> 0 | AU32: =IF(P32="사용자항목19", L32, 0) -> 0
A33: TV수신용동축케이블 | B33: 고발포동축케이블, 5C-HFBT | C33: m | D33: 40.9 | O33: ="05" -> 05 | P33: 기계경비 | Q33: 1 | R33: =IF(P33="기계경비", J33, 0) -> 0 | S33: =IF(P33="운반비", L33, 0) -> 0 | T33: =IF(P33="작업부산물", F33, 0) -> 0 | U33: =IF(P33="관급", F33, 0) -> 0 | V33: =IF(P33="외주비", J33, 0) -> 0 | W33: =IF(P33="장비비", J33, 0) -> 0 | X33: =IF(P33="폐기물처리비", L33, 0) -> 0 | Y33: =IF(P33="가설비", J33, 0) -> 0 | Z33: =IF(P33="잡비제외분", F33, 0) -> 0 | AA33: =IF(P33="사급자재대", L33, 0) -> 0 | AB33: =IF(P33="관급자재대", L33, 0) -> 0 | AC33: =IF(P33="사용자항목1", L33, 0) -> 0 | AD33: =IF(P33="사용자항목2", L33, 0) -> 0 | AE33: =IF(P33="안전관리비", L33, 0) -> 0 | AF33: =IF(P33="품질관리비", L33, 0) -> 0 | AG33: =IF(P33="작업부산물(철거해체)", L33, 0) -> 0 | AH33: =IF(P33="사용자항목6", L33, 0) -> 0 | AI33: =IF(P33="사용자항목7", L33, 0) -> 0 | AJ33: =IF(P33="사용자항목8", L33, 0) -> 0 | AK33: =IF(P33="사용자항목9", L33, 0) -> 0 | AL33: =IF(P33="사용자항목10", L33, 0) -> 0 | AM33: =IF(P33="사용자항목11", L33, 0) -> 0 | AN33: =IF(P33="사용자항목12", L33, 0) -> 0 | AO33: =IF(P33="사용자항목13", L33, 0) -> 0 | AP33: =IF(P33="사용자항목14", L33, 0) -> 0 | AQ33: =IF(P33="사용자항목15", L33, 0) -> 0 | AR33: =IF(P33="사용자항목16", L33, 0) -> 0 | AS33: =IF(P33="사용자항목17", L33, 0) -> 0 | AT33: =IF(P33="사용자항목18", L33, 0) -> 0 | AU33: =IF(P33="사용자항목19", L33, 0) -> 0
A34: 소모품비 | B34: ="배관배선의 " & N34*100 & "%" -> 배관배선의 2% | C34: 식 | D34: 1 | N34: 0.02 | O34: ="" | P34: 기계경비 | Q34: 1 | R34: =IF(P34="기계경비", J34, 0) -> 0 | S34: =IF(P34="운반비", L34, 0) -> 0 | T34: =IF(P34="작업부산물", F34, 0) -> 0 | U34: =IF(P34="관급", F34, 0) -> 0 | V34: =IF(P34="외주비", J34, 0) -> 0 | W34: =IF(P34="장비비", J34, 0) -> 0 | X34: =IF(P34="폐기물처리비", L34, 0) -> 0 | Y34: =IF(P34="가설비", J34, 0) -> 0 | Z34: =IF(P34="잡비제외분", F34, 0) -> 0 | AA34: =IF(P34="사급자재대", L34, 0) -> 0 | AB34: =IF(P34="관급자재대", L34, 0) -> 0 | AC34: =IF(P34="사용자항목1", L34, 0) -> 0 | AD34: =IF(P34="사용자항목2", L34, 0) -> 0 | AE34: =IF(P34="안전관리비", L34, 0) -> 0 | AF34: =IF(P34="품질관리비", L34, 0) -> 0 | AG34: =IF(P34="작업부산물(철거해체)", L34, 0) -> 0 | AH34: =IF(P34="사용자항목6", L34, 0) -> 0 | AI34: =IF(P34="사용자항목7", L34, 0) -> 0 | AJ34: =IF(P34="사용자항목8", L34, 0) -> 0 | AK34: =IF(P34="사용자항목9", L34, 0) -> 0 | AL34: =IF(P34="사용자항목10", L34, 0) -> 0 | AM34: =IF(P34="사용자항목11", L34, 0) -> 0 | AN34: =IF(P34="사용자항목12", L34, 0) -> 0 | AO34: =IF(P34="사용자항목13", L34, 0) -> 0 | AP34: =IF(P34="사용자항목14", L34, 0) -> 0 | AQ34: =IF(P34="사용자항목15", L34, 0) -> 0 | AR34: =IF(P34="사용자항목16", L34, 0) -> 0 | AS34: =IF(P34="사용자항목17", L34, 0) -> 0 | AT34: =IF(P34="사용자항목18", L34, 0) -> 0 | AU34: =IF(P34="사용자항목19", L34, 0) -> 0 | AW34: 20 | AX34: A0405000000
A35: 스위치박스 | B35: 1개용, 54mm | C35: 개 | D35: 4 | O35: ="01" -> 01 | P35: 기계경비 | Q35: 1 | R35: =IF(P35="기계경비", J35, 0) -> 0 | S35: =IF(P35="운반비", L35, 0) -> 0 | T35: =IF(P35="작업부산물", F35, 0) -> 0 | U35: =IF(P35="관급", F35, 0) -> 0 | V35: =IF(P35="외주비", J35, 0) -> 0 | W35: =IF(P35="장비비", J35, 0) -> 0 | X35: =IF(P35="폐기물처리비", L35, 0) -> 0 | Y35: =IF(P35="가설비", J35, 0) -> 0 | Z35: =IF(P35="잡비제외분", F35, 0) -> 0 | AA35: =IF(P35="사급자재대", L35, 0) -> 0 | AB35: =IF(P35="관급자재대", L35, 0) -> 0 | AC35: =IF(P35="사용자항목1", L35, 0) -> 0 | AD35: =IF(P35="사용자항목2", L35, 0) -> 0 | AE35: =IF(P35="안전관리비", L35, 0) -> 0 | AF35: =IF(P35="품질관리비", L35, 0) -> 0 | AG35: =IF(P35="작업부산물(철거해체)", L35, 0) -> 0 | AH35: =IF(P35="사용자항목6", L35, 0) -> 0 | AI35: =IF(P35="사용자항목7", L35, 0) -> 0 | AJ35: =IF(P35="사용자항목8", L35, 0) -> 0 | AK35: =IF(P35="사용자항목9", L35, 0) -> 0 | AL35: =IF(P35="사용자항목10", L35, 0) -> 0 | AM35: =IF(P35="사용자항목11", L35, 0) -> 0 | AN35: =IF(P35="사용자항목12", L35, 0) -> 0 | AO35: =IF(P35="사용자항목13", L35, 0) -> 0 | AP35: =IF(P35="사용자항목14", L35, 0) -> 0 | AQ35: =IF(P35="사용자항목15", L35, 0) -> 0 | AR35: =IF(P35="사용자항목16", L35, 0) -> 0 | AS35: =IF(P35="사용자항목17", L35, 0) -> 0 | AT35: =IF(P35="사용자항목18", L35, 0) -> 0 | AU35: =IF(P35="사용자항목19", L35, 0) -> 0
A36: 아웃렛박스 | B36: 중형4각, 54mm | C36: 개 | D36: 4 | O36: ="01" -> 01 | P36: 기계경비 | Q36: 1 | R36: =IF(P36="기계경비", J36, 0) -> 0 | S36: =IF(P36="운반비", L36, 0) -> 0 | T36: =IF(P36="작업부산물", F36, 0) -> 0 | U36: =IF(P36="관급", F36, 0) -> 0 | V36: =IF(P36="외주비", J36, 0) -> 0 | W36: =IF(P36="장비비", J36, 0) -> 0 | X36: =IF(P36="폐기물처리비", L36, 0) -> 0 | Y36: =IF(P36="가설비", J36, 0) -> 0 | Z36: =IF(P36="잡비제외분", F36, 0) -> 0 | AA36: =IF(P36="사급자재대", L36, 0) -> 0 | AB36: =IF(P36="관급자재대", L36, 0) -> 0 | AC36: =IF(P36="사용자항목1", L36, 0) -> 0 | AD36: =IF(P36="사용자항목2", L36, 0) -> 0 | AE36: =IF(P36="안전관리비", L36, 0) -> 0 | AF36: =IF(P36="품질관리비", L36, 0) -> 0 | AG36: =IF(P36="작업부산물(철거해체)", L36, 0) -> 0 | AH36: =IF(P36="사용자항목6", L36, 0) -> 0 | AI36: =IF(P36="사용자항목7", L36, 0) -> 0 | AJ36: =IF(P36="사용자항목8", L36, 0) -> 0 | AK36: =IF(P36="사용자항목9", L36, 0) -> 0 | AL36: =IF(P36="사용자항목10", L36, 0) -> 0 | AM36: =IF(P36="사용자항목11", L36, 0) -> 0 | AN36: =IF(P36="사용자항목12", L36, 0) -> 0 | AO36: =IF(P36="사용자항목13", L36, 0) -> 0 | AP36: =IF(P36="사용자항목14", L36, 0) -> 0 | AQ36: =IF(P36="사용자항목15", L36, 0) -> 0 | AR36: =IF(P36="사용자항목16", L36, 0) -> 0 | AS36: =IF(P36="사용자항목17", L36, 0) -> 0 | AT36: =IF(P36="사용자항목18", L36, 0) -> 0 | AU36: =IF(P36="사용자항목19", L36, 0) -> 0
A37: 아웃렛박스 | B37: 커버, 4각, 평 | C37: 개 | D37: 4 | O37: ="01" -> 01 | P37: 기계경비 | Q37: 1 | R37: =IF(P37="기계경비", J37, 0) -> 0 | S37: =IF(P37="운반비", L37, 0) -> 0 | T37: =IF(P37="작업부산물", F37, 0) -> 0 | U37: =IF(P37="관급", F37, 0) -> 0 | V37: =IF(P37="외주비", J37, 0) -> 0 | W37: =IF(P37="장비비", J37, 0) -> 0 | X37: =IF(P37="폐기물처리비", L37, 0) -> 0 | Y37: =IF(P37="가설비", J37, 0) -> 0 | Z37: =IF(P37="잡비제외분", F37, 0) -> 0 | AA37: =IF(P37="사급자재대", L37, 0) -> 0 | AB37: =IF(P37="관급자재대", L37, 0) -> 0 | AC37: =IF(P37="사용자항목1", L37, 0) -> 0 | AD37: =IF(P37="사용자항목2", L37, 0) -> 0 | AE37: =IF(P37="안전관리비", L37, 0) -> 0 | AF37: =IF(P37="품질관리비", L37, 0) -> 0 | AG37: =IF(P37="작업부산물(철거해체)", L37, 0) -> 0 | AH37: =IF(P37="사용자항목6", L37, 0) -> 0 | AI37: =IF(P37="사용자항목7", L37, 0) -> 0 | AJ37: =IF(P37="사용자항목8", L37, 0) -> 0 | AK37: =IF(P37="사용자항목9", L37, 0) -> 0 | AL37: =IF(P37="사용자항목10", L37, 0) -> 0 | AM37: =IF(P37="사용자항목11", L37, 0) -> 0 | AN37: =IF(P37="사용자항목12", L37, 0) -> 0 | AO37: =IF(P37="사용자항목13", L37, 0) -> 0 | AP37: =IF(P37="사용자항목14", L37, 0) -> 0 | AQ37: =IF(P37="사용자항목15", L37, 0) -> 0 | AR37: =IF(P37="사용자항목16", L37, 0) -> 0 | AS37: =IF(P37="사용자항목17", L37, 0) -> 0 | AT37: =IF(P37="사용자항목18", L37, 0) -> 0 | AU37: =IF(P37="사용자항목19", L37, 0) -> 0
A38: 분할기 | B38: TV 유니트, 직렬용 | C38: 대 | D38: 4 | O38: ="01" -> 01 | P38: 기계경비 | Q38: 1 | R38: =IF(P38="기계경비", J38, 0) -> 0 | S38: =IF(P38="운반비", L38, 0) -> 0 | T38: =IF(P38="작업부산물", F38, 0) -> 0 | U38: =IF(P38="관급", F38, 0) -> 0 | V38: =IF(P38="외주비", J38, 0) -> 0 | W38: =IF(P38="장비비", J38, 0) -> 0 | X38: =IF(P38="폐기물처리비", L38, 0) -> 0 | Y38: =IF(P38="가설비", J38, 0) -> 0 | Z38: =IF(P38="잡비제외분", F38, 0) -> 0 | AA38: =IF(P38="사급자재대", L38, 0) -> 0 | AB38: =IF(P38="관급자재대", L38, 0) -> 0 | AC38: =IF(P38="사용자항목1", L38, 0) -> 0 | AD38: =IF(P38="사용자항목2", L38, 0) -> 0 | AE38: =IF(P38="안전관리비", L38, 0) -> 0 | AF38: =IF(P38="품질관리비", L38, 0) -> 0 | AG38: =IF(P38="작업부산물(철거해체)", L38, 0) -> 0 | AH38: =IF(P38="사용자항목6", L38, 0) -> 0 | AI38: =IF(P38="사용자항목7", L38, 0) -> 0 | AJ38: =IF(P38="사용자항목8", L38, 0) -> 0 | AK38: =IF(P38="사용자항목9", L38, 0) -> 0 | AL38: =IF(P38="사용자항목10", L38, 0) -> 0 | AM38: =IF(P38="사용자항목11", L38, 0) -> 0 | AN38: =IF(P38="사용자항목12", L38, 0) -> 0 | AO38: =IF(P38="사용자항목13", L38, 0) -> 0 | AP38: =IF(P38="사용자항목14", L38, 0) -> 0 | AQ38: =IF(P38="사용자항목15", L38, 0) -> 0 | AR38: =IF(P38="사용자항목16", L38, 0) -> 0 | AS38: =IF(P38="사용자항목17", L38, 0) -> 0 | AT38: =IF(P38="사용자항목18", L38, 0) -> 0 | AU38: =IF(P38="사용자항목19", L38, 0) -> 0
A39: 분배기 | B39: 2 분배기 | C39: 대 | D39: 1 | O39: ="01" -> 01 | P39: 기계경비 | Q39: 1 | R39: =IF(P39="기계경비", J39, 0) -> 0 | S39: =IF(P39="운반비", L39, 0) -> 0 | T39: =IF(P39="작업부산물", F39, 0) -> 0 | U39: =IF(P39="관급", F39, 0) -> 0 | V39: =IF(P39="외주비", J39, 0) -> 0 | W39: =IF(P39="장비비", J39, 0) -> 0 | X39: =IF(P39="폐기물처리비", L39, 0) -> 0 | Y39: =IF(P39="가설비", J39, 0) -> 0 | Z39: =IF(P39="잡비제외분", F39, 0) -> 0 | AA39: =IF(P39="사급자재대", L39, 0) -> 0 | AB39: =IF(P39="관급자재대", L39, 0) -> 0 | AC39: =IF(P39="사용자항목1", L39, 0) -> 0 | AD39: =IF(P39="사용자항목2", L39, 0) -> 0 | AE39: =IF(P39="안전관리비", L39, 0) -> 0 | AF39: =IF(P39="품질관리비", L39, 0) -> 0 | AG39: =IF(P39="작업부산물(철거해체)", L39, 0) -> 0 | AH39: =IF(P39="사용자항목6", L39, 0) -> 0 | AI39: =IF(P39="사용자항목7", L39, 0) -> 0 | AJ39: =IF(P39="사용자항목8", L39, 0) -> 0 | AK39: =IF(P39="사용자항목9", L39, 0) -> 0 | AL39: =IF(P39="사용자항목10", L39, 0) -> 0 | AM39: =IF(P39="사용자항목11", L39, 0) -> 0 | AN39: =IF(P39="사용자항목12", L39, 0) -> 0 | AO39: =IF(P39="사용자항목13", L39, 0) -> 0 | AP39: =IF(P39="사용자항목14", L39, 0) -> 0 | AQ39: =IF(P39="사용자항목15", L39, 0) -> 0 | AR39: =IF(P39="사용자항목16", L39, 0) -> 0 | AS39: =IF(P39="사용자항목17", L39, 0) -> 0 | AT39: =IF(P39="사용자항목18", L39, 0) -> 0 | AU39: =IF(P39="사용자항목19", L39, 0) -> 0
A40: 구멍뚫기(통신) | B40: 깊이 50㎜ 이하 | C40: 개소 | D40: 1 | M40: 일위 1호 | O40: ="" | P40: 기계경비 | Q40: 1 | R40: =IF(P40="기계경비", J40, 0) -> 0 | S40: =IF(P40="운반비", L40, 0) -> 0 | T40: =IF(P40="작업부산물", F40, 0) -> 0 | U40: =IF(P40="관급", F40, 0) -> 0 | V40: =IF(P40="외주비", J40, 0) -> 0 | W40: =IF(P40="장비비", J40, 0) -> 0 | X40: =IF(P40="폐기물처리비", L40, 0) -> 0 | Y40: =IF(P40="가설비", J40, 0) -> 0 | Z40: =IF(P40="잡비제외분", F40, 0) -> 0 | AA40: =IF(P40="사급자재대", L40, 0) -> 0 | AB40: =IF(P40="관급자재대", L40, 0) -> 0 | AC40: =IF(P40="사용자항목1", L40, 0) -> 0 | AD40: =IF(P40="사용자항목2", L40, 0) -> 0 | AE40: =IF(P40="안전관리비", L40, 0) -> 0 | AF40: =IF(P40="품질관리비", L40, 0) -> 0 | AG40: =IF(P40="작업부산물(철거해체)", L40, 0) -> 0 | AH40: =IF(P40="사용자항목6", L40, 0) -> 0 | AI40: =IF(P40="사용자항목7", L40, 0) -> 0 | AJ40: =IF(P40="사용자항목8", L40, 0) -> 0 | AK40: =IF(P40="사용자항목9", L40, 0) -> 0 | AL40: =IF(P40="사용자항목10", L40, 0) -> 0 | AM40: =IF(P40="사용자항목11", L40, 0) -> 0 | AN40: =IF(P40="사용자항목12", L40, 0) -> 0 | AO40: =IF(P40="사용자항목13", L40, 0) -> 0 | AP40: =IF(P40="사용자항목14", L40, 0) -> 0 | AQ40: =IF(P40="사용자항목15", L40, 0) -> 0 | AR40: =IF(P40="사용자항목16", L40, 0) -> 0 | AS40: =IF(P40="사용자항목17", L40, 0) -> 0 | AT40: =IF(P40="사용자항목18", L40, 0) -> 0 | AU40: =IF(P40="사용자항목19", L40, 0) -> 0
A41: 공구손료 | B41: ="노무비의 " & N41*100 & "%" -> 노무비의 3% | C41: 식 | D41: 1 | N41: 0.03 | O41: ="" | P41: 기계경비 | Q41: 1 | R41: =IF(P41="기계경비", J41, 0) -> 0 | S41: =IF(P41="운반비", L41, 0) -> 0 | T41: =IF(P41="작업부산물", F41, 0) -> 0 | U41: =IF(P41="관급", F41, 0) -> 0 | V41: =IF(P41="외주비", J41, 0) -> 0 | W41: =IF(P41="장비비", J41, 0) -> 0 | X41: =IF(P41="폐기물처리비", L41, 0) -> 0 | Y41: =IF(P41="가설비", J41, 0) -> 0 | Z41: =IF(P41="잡비제외분", F41, 0) -> 0 | AA41: =IF(P41="사급자재대", L41, 0) -> 0 | AB41: =IF(P41="관급자재대", L41, 0) -> 0 | AC41: =IF(P41="사용자항목1", L41, 0) -> 0 | AD41: =IF(P41="사용자항목2", L41, 0) -> 0 | AE41: =IF(P41="안전관리비", L41, 0) -> 0 | AF41: =IF(P41="품질관리비", L41, 0) -> 0 | AG41: =IF(P41="작업부산물(철거해체)", L41, 0) -> 0 | AH41: =IF(P41="사용자항목6", L41, 0) -> 0 | AI41: =IF(P41="사용자항목7", L41, 0) -> 0 | AJ41: =IF(P41="사용자항목8", L41, 0) -> 0 | AK41: =IF(P41="사용자항목9", L41, 0) -> 0 | AL41: =IF(P41="사용자항목10", L41, 0) -> 0 | AM41: =IF(P41="사용자항목11", L41, 0) -> 0 | AN41: =IF(P41="사용자항목12", L41, 0) -> 0 | AO41: =IF(P41="사용자항목13", L41, 0) -> 0 | AP41: =IF(P41="사용자항목14", L41, 0) -> 0 | AQ41: =IF(P41="사용자항목15", L41, 0) -> 0 | AR41: =IF(P41="사용자항목16", L41, 0) -> 0 | AS41: =IF(P41="사용자항목17", L41, 0) -> 0 | AT41: =IF(P41="사용자항목18", L41, 0) -> 0 | AU41: =IF(P41="사용자항목19", L41, 0) -> 0 | AW41: 23 | AX41: A0200000000
A42: 내선전공 | B42: 일반공사 직종 | C42: 인 | D42: 3.272 | O42: ="02" -> 02 | P42: 기계경비 | Q42: 1 | R42: =IF(P42="기계경비", J42, 0) -> 0 | S42: =IF(P42="운반비", L42, 0) -> 0 | T42: =IF(P42="작업부산물", F42, 0) -> 0 | U42: =IF(P42="관급", F42, 0) -> 0 | V42: =IF(P42="외주비", J42, 0) -> 0 | W42: =IF(P42="장비비", J42, 0) -> 0 | X42: =IF(P42="폐기물처리비", L42, 0) -> 0 | Y42: =IF(P42="가설비", J42, 0) -> 0 | Z42: =IF(P42="잡비제외분", F42, 0) -> 0 | AA42: =IF(P42="사급자재대", L42, 0) -> 0 | AB42: =IF(P42="관급자재대", L42, 0) -> 0 | AC42: =IF(P42="사용자항목1", L42, 0) -> 0 | AD42: =IF(P42="사용자항목2", L42, 0) -> 0 | AE42: =IF(P42="안전관리비", L42, 0) -> 0 | AF42: =IF(P42="품질관리비", L42, 0) -> 0 | AG42: =IF(P42="작업부산물(철거해체)", L42, 0) -> 0 | AH42: =IF(P42="사용자항목6", L42, 0) -> 0 | AI42: =IF(P42="사용자항목7", L42, 0) -> 0 | AJ42: =IF(P42="사용자항목8", L42, 0) -> 0 | AK42: =IF(P42="사용자항목9", L42, 0) -> 0 | AL42: =IF(P42="사용자항목10", L42, 0) -> 0 | AM42: =IF(P42="사용자항목11", L42, 0) -> 0 | AN42: =IF(P42="사용자항목12", L42, 0) -> 0 | AO42: =IF(P42="사용자항목13", L42, 0) -> 0 | AP42: =IF(P42="사용자항목14", L42, 0) -> 0 | AQ42: =IF(P42="사용자항목15", L42, 0) -> 0 | AR42: =IF(P42="사용자항목16", L42, 0) -> 0 | AS42: =IF(P42="사용자항목17", L42, 0) -> 0 | AT42: =IF(P42="사용자항목18", L42, 0) -> 0 | AU42: =IF(P42="사용자항목19", L42, 0) -> 0
A43: 통신케이블공 | B43: 일반공사 직종 | C43: 인 | D43: 0.646 | O43: ="02" -> 02 | P43: 기계경비 | Q43: 1 | R43: =IF(P43="기계경비", J43, 0) -> 0 | S43: =IF(P43="운반비", L43, 0) -> 0 | T43: =IF(P43="작업부산물", F43, 0) -> 0 | U43: =IF(P43="관급", F43, 0) -> 0 | V43: =IF(P43="외주비", J43, 0) -> 0 | W43: =IF(P43="장비비", J43, 0) -> 0 | X43: =IF(P43="폐기물처리비", L43, 0) -> 0 | Y43: =IF(P43="가설비", J43, 0) -> 0 | Z43: =IF(P43="잡비제외분", F43, 0) -> 0 | AA43: =IF(P43="사급자재대", L43, 0) -> 0 | AB43: =IF(P43="관급자재대", L43, 0) -> 0 | AC43: =IF(P43="사용자항목1", L43, 0) -> 0 | AD43: =IF(P43="사용자항목2", L43, 0) -> 0 | AE43: =IF(P43="안전관리비", L43, 0) -> 0 | AF43: =IF(P43="품질관리비", L43, 0) -> 0 | AG43: =IF(P43="작업부산물(철거해체)", L43, 0) -> 0 | AH43: =IF(P43="사용자항목6", L43, 0) -> 0 | AI43: =IF(P43="사용자항목7", L43, 0) -> 0 | AJ43: =IF(P43="사용자항목8", L43, 0) -> 0 | AK43: =IF(P43="사용자항목9", L43, 0) -> 0 | AL43: =IF(P43="사용자항목10", L43, 0) -> 0 | AM43: =IF(P43="사용자항목11", L43, 0) -> 0 | AN43: =IF(P43="사용자항목12", L43, 0) -> 0 | AO43: =IF(P43="사용자항목13", L43, 0) -> 0 | AP43: =IF(P43="사용자항목14", L43, 0) -> 0 | AQ43: =IF(P43="사용자항목15", L43, 0) -> 0 | AR43: =IF(P43="사용자항목16", L43, 0) -> 0 | AS43: =IF(P43="사용자항목17", L43, 0) -> 0 | AT43: =IF(P43="사용자항목18", L43, 0) -> 0 | AU43: =IF(P43="사용자항목19", L43, 0) -> 0
A44: 통신내선공 | B44: 일반공사 직종 | C44: 인 | D44: 0.28 | O44: ="02" -> 02 | P44: 기계경비 | Q44: 1 | R44: =IF(P44="기계경비", J44, 0) -> 0 | S44: =IF(P44="운반비", L44, 0) -> 0 | T44: =IF(P44="작업부산물", F44, 0) -> 0 | U44: =IF(P44="관급", F44, 0) -> 0 | V44: =IF(P44="외주비", J44, 0) -> 0 | W44: =IF(P44="장비비", J44, 0) -> 0 | X44: =IF(P44="폐기물처리비", L44, 0) -> 0 | Y44: =IF(P44="가설비", J44, 0) -> 0 | Z44: =IF(P44="잡비제외분", F44, 0) -> 0 | AA44: =IF(P44="사급자재대", L44, 0) -> 0 | AB44: =IF(P44="관급자재대", L44, 0) -> 0 | AC44: =IF(P44="사용자항목1", L44, 0) -> 0 | AD44: =IF(P44="사용자항목2", L44, 0) -> 0 | AE44: =IF(P44="안전관리비", L44, 0) -> 0 | AF44: =IF(P44="품질관리비", L44, 0) -> 0 | AG44: =IF(P44="작업부산물(철거해체)", L44, 0) -> 0 | AH44: =IF(P44="사용자항목6", L44, 0) -> 0 | AI44: =IF(P44="사용자항목7", L44, 0) -> 0 | AJ44: =IF(P44="사용자항목8", L44, 0) -> 0 | AK44: =IF(P44="사용자항목9", L44, 0) -> 0 | AL44: =IF(P44="사용자항목10", L44, 0) -> 0 | AM44: =IF(P44="사용자항목11", L44, 0) -> 0 | AN44: =IF(P44="사용자항목12", L44, 0) -> 0 | AO44: =IF(P44="사용자항목13", L44, 0) -> 0 | AP44: =IF(P44="사용자항목14", L44, 0) -> 0 | AQ44: =IF(P44="사용자항목15", L44, 0) -> 0 | AR44: =IF(P44="사용자항목16", L44, 0) -> 0 | AS44: =IF(P44="사용자항목17", L44, 0) -> 0 | AT44: =IF(P44="사용자항목18", L44, 0) -> 0 | AU44: =IF(P44="사용자항목19", L44, 0) -> 0
A45: 통신설비공 | B45: 일반공사 직종 | C45: 인 | D45: 0.11 | O45: ="02" -> 02 | P45: 기계경비 | Q45: 1 | R45: =IF(P45="기계경비", J45, 0) -> 0 | S45: =IF(P45="운반비", L45, 0) -> 0 | T45: =IF(P45="작업부산물", F45, 0) -> 0 | U45: =IF(P45="관급", F45, 0) -> 0 | V45: =IF(P45="외주비", J45, 0) -> 0 | W45: =IF(P45="장비비", J45, 0) -> 0 | X45: =IF(P45="폐기물처리비", L45, 0) -> 0 | Y45: =IF(P45="가설비", J45, 0) -> 0 | Z45: =IF(P45="잡비제외분", F45, 0) -> 0 | AA45: =IF(P45="사급자재대", L45, 0) -> 0 | AB45: =IF(P45="관급자재대", L45, 0) -> 0 | AC45: =IF(P45="사용자항목1", L45, 0) -> 0 | AD45: =IF(P45="사용자항목2", L45, 0) -> 0 | AE45: =IF(P45="안전관리비", L45, 0) -> 0 | AF45: =IF(P45="품질관리비", L45, 0) -> 0 | AG45: =IF(P45="작업부산물(철거해체)", L45, 0) -> 0 | AH45: =IF(P45="사용자항목6", L45, 0) -> 0 | AI45: =IF(P45="사용자항목7", L45, 0) -> 0 | AJ45: =IF(P45="사용자항목8", L45, 0) -> 0 | AK45: =IF(P45="사용자항목9", L45, 0) -> 0 | AL45: =IF(P45="사용자항목10", L45, 0) -> 0 | AM45: =IF(P45="사용자항목11", L45, 0) -> 0 | AN45: =IF(P45="사용자항목12", L45, 0) -> 0 | AO45: =IF(P45="사용자항목13", L45, 0) -> 0 | AP45: =IF(P45="사용자항목14", L45, 0) -> 0 | AQ45: =IF(P45="사용자항목15", L45, 0) -> 0 | AR45: =IF(P45="사용자항목16", L45, 0) -> 0 | AS45: =IF(P45="사용자항목17", L45, 0) -> 0 | AT45: =IF(P45="사용자항목18", L45, 0) -> 0 | AU45: =IF(P45="사용자항목19", L45, 0) -> 0
A46: 보통인부 | B46: 일반공사 직종 | C46: 인 | D46: 0.11 | O46: ="02" -> 02 | P46: 기계경비 | Q46: 1 | R46: =IF(P46="기계경비", J46, 0) -> 0 | S46: =IF(P46="운반비", L46, 0) -> 0 | T46: =IF(P46="작업부산물", F46, 0) -> 0 | U46: =IF(P46="관급", F46, 0) -> 0 | V46: =IF(P46="외주비", J46, 0) -> 0 | W46: =IF(P46="장비비", J46, 0) -> 0 | X46: =IF(P46="폐기물처리비", L46, 0) -> 0 | Y46: =IF(P46="가설비", J46, 0) -> 0 | Z46: =IF(P46="잡비제외분", F46, 0) -> 0 | AA46: =IF(P46="사급자재대", L46, 0) -> 0 | AB46: =IF(P46="관급자재대", L46, 0) -> 0 | AC46: =IF(P46="사용자항목1", L46, 0) -> 0 | AD46: =IF(P46="사용자항목2", L46, 0) -> 0 | AE46: =IF(P46="안전관리비", L46, 0) -> 0 | AF46: =IF(P46="품질관리비", L46, 0) -> 0 | AG46: =IF(P46="작업부산물(철거해체)", L46, 0) -> 0 | AH46: =IF(P46="사용자항목6", L46, 0) -> 0 | AI46: =IF(P46="사용자항목7", L46, 0) -> 0 | AJ46: =IF(P46="사용자항목8", L46, 0) -> 0 | AK46: =IF(P46="사용자항목9", L46, 0) -> 0 | AL46: =IF(P46="사용자항목10", L46, 0) -> 0 | AM46: =IF(P46="사용자항목11", L46, 0) -> 0 | AN46: =IF(P46="사용자항목12", L46, 0) -> 0 | AO46: =IF(P46="사용자항목13", L46, 0) -> 0 | AP46: =IF(P46="사용자항목14", L46, 0) -> 0 | AQ46: =IF(P46="사용자항목15", L46, 0) -> 0 | AR46: =IF(P46="사용자항목16", L46, 0) -> 0 | AS46: =IF(P46="사용자항목17", L46, 0) -> 0 | AT46: =IF(P46="사용자항목18", L46, 0) -> 0 | AU46: =IF(P46="사용자항목19", L46, 0) -> 0
A52: 합 계 | F52: =ROUNDDOWN(SUMIF(Q30:Q51, "1", F30:F51), 0) -> 0 | H52: =ROUNDDOWN(SUMIF(Q30:Q51, "1", H30:H51), 0) -> 0 | J52: =ROUNDDOWN(SUMIF(Q30:Q51, "1", J30:J51), 0) -> 0 | L52: =F52+H52+J52 -> 0 | R52: =ROUNDDOWN(SUM(R30:R46), 0) -> 0 | S52: =ROUNDDOWN(SUM(S30:S46), 0) -> 0 | T52: =ROUNDDOWN(SUM(T30:T46), 0) -> 0 | U52: =ROUNDDOWN(SUM(U30:U46), 0) -> 0 | V52: =ROUNDDOWN(SUM(V30:V46), 0) -> 0 | W52: =ROUNDDOWN(SUM(W30:W46), 0) -> 0 | X52: =ROUNDDOWN(SUM(X30:X46), 0) -> 0 | Y52: =ROUNDDOWN(SUM(Y30:Y46), 0) -> 0 | ... AY52: =ROUNDDOWN(SUM(AY30:AY46), 0) -> 0
